BEGIN:VCALENDAR
VERSION:2.0
PRODID:-//GRÜNE Kanton Solothurn - ECPv6.15.15//NONSGML v1.0//EN
CALSCALE:GREGORIAN
METHOD:PUBLISH
X-WR-CALNAME:GRÜNE Kanton Solothurn
X-ORIGINAL-URL:https://gruene-so.ch
X-WR-CALDESC:Veranstaltungen für GRÜNE Kanton Solothurn
REFRESH-INTERVAL;VALUE=DURATION:PT1H
X-Robots-Tag:noindex
X-PUBLISHED-TTL:PT1H
BEGIN:VTIMEZONE
TZID:Europe/Berlin
BEGIN:DAYLIGHT
TZOFFSETFROM:+0100
TZOFFSETTO:+0200
TZNAME:CEST
DTSTART:20170326T010000
END:DAYLIGHT
BEGIN:STANDARD
TZOFFSETFROM:+0200
TZOFFSETTO:+0100
TZNAME:CET
DTSTART:20171029T010000
END:STANDARD
BEGIN:DAYLIGHT
TZOFFSETFROM:+0100
TZOFFSETTO:+0200
TZNAME:CEST
DTSTART:20180325T010000
END:DAYLIGHT
BEGIN:STANDARD
TZOFFSETFROM:+0200
TZOFFSETTO:+0100
TZNAME:CET
DTSTART:20181028T010000
END:STANDARD
BEGIN:DAYLIGHT
TZOFFSETFROM:+0100
TZOFFSETTO:+0200
TZNAME:CEST
DTSTART:20190331T010000
END:DAYLIGHT
BEGIN:STANDARD
TZOFFSETFROM:+0200
TZOFFSETTO:+0100
TZNAME:CET
DTSTART:20191027T010000
END:STANDARD
END:VTIMEZONE
BEGIN:VEVENT
DTSTART;VALUE=DATE:20181125
DTEND;VALUE=DATE:20181126
DTSTAMP:20260421T102517
CREATED:20181002T103329Z
LAST-MODIFIED:20201015T171535Z
UID:6465-1543104000-1543190399@gruene-so.ch
SUMMARY:Abstimmungssonntag
DESCRIPTION:Volksinitiative vom 23. März 2016 «Für die Würde der landwirtschaftlichen Nutztiere (Hornkuh-Initiative)»\nVolksinitiative vom 12. August 2016 «Schweizer Recht statt fremde Richter (Selbstbestimmungsinitiative)»\nÄnderung vom 16. März 2018 des Bundesgesetzes über den Allgemeinen Teil des Sozialversicherungsrechts (ATSG) (Gesetzliche Grundlage für die Überwachung von Versicherten.
URL:https://gruene-so.ch/event/abstimmungssonntag-4/
CATEGORIES:Kantonale Anlässe
END:VEVENT
END:VCALENDAR